BEGIN:VCALENDAR
VERSION:2.0
PRODID:-//Treasure Trove Games - ECPv6.15.20//NONSGML v1.0//EN
CALSCALE:GREGORIAN
METHOD:PUBLISH
X-WR-CALNAME:Treasure Trove Games
X-ORIGINAL-URL:https://treasuretrove.games
X-WR-CALDESC:Events for Treasure Trove Games
REFRESH-INTERVAL;VALUE=DURATION:PT1H
X-Robots-Tag:noindex
X-PUBLISHED-TTL:PT1H
BEGIN:VTIMEZONE
TZID:UTC
BEGIN:STANDARD
TZOFFSETFROM:+0000
TZOFFSETTO:+0000
TZNAME:UTC
DTSTART:20240101T000000
END:STANDARD
END:VTIMEZONE
BEGIN:VEVENT
DTSTART;TZID=UTC:20251205T120000
DTEND;TZID=UTC:20251205T210000
DTSTAMP:20260420T082920
CREATED:20251008T085516Z
LAST-MODIFIED:20251008T090633Z
UID:10002897-1764936000-1764968400@treasuretrove.games
SUMMARY:Age of Sigmar - Realmgate Rumble
DESCRIPTION:Bring your Age of Sigmar Armies to dominate the Realmgates on Fridays in Shiv’s arena.
URL:https://treasuretrove.games/event/age-of-sigmar-realmgate-rumble/2025-12-05/
END:VEVENT
BEGIN:VEVENT
DTSTART;TZID=UTC:20251204T160000
DTEND;TZID=UTC:20251204T210000
DTSTAMP:20260420T082920
CREATED:20251008T090033Z
LAST-MODIFIED:20260104T114847Z
UID:10003162-1764864000-1764882000@treasuretrove.games
SUMMARY:Riftbound Thursday Throwdown
DESCRIPTION:Join us on Thursdays for Riftbound Play Every Thursday.
URL:https://treasuretrove.games/event/mtg-thursday-throwdown/2025-12-04/
END:VEVENT
BEGIN:VEVENT
DTSTART;TZID=UTC:20251204T120000
DTEND;TZID=UTC:20251204T210000
DTSTAMP:20260420T082920
CREATED:20251008T084153Z
LAST-MODIFIED:20251008T084153Z
UID:10001853-1764849600-1764882000@treasuretrove.games
SUMMARY:Warhammer 40k Weekly Play
DESCRIPTION:Come join the best Warhammer 40k Community in the Northwest! New players\, seasoned generals\, and hobbyists alike — all are welcome at Treasure Trove Games.
URL:https://treasuretrove.games/event/warhammer-40k-weekly-play/2025-12-04/
END:VEVENT
BEGIN:VEVENT
DTSTART;TZID=UTC:20251203T170000
DTEND;TZID=UTC:20251203T210000
DTSTAMP:20260420T082920
CREATED:20251008T082402Z
LAST-MODIFIED:20251008T082402Z
UID:10001592-1764781200-1764795600@treasuretrove.games
SUMMARY:Kill Team - Wednesday Wakening
DESCRIPTION:Bring your squad. Trust no signal. And remember: the tomb doesn’t sleep — it waits.
URL:https://treasuretrove.games/event/kill-team-wednesday-wakening/2025-12-03/
END:VEVENT
BEGIN:VEVENT
DTSTART;TZID=UTC:20251203T160000
DTEND;TZID=UTC:20251203T210000
DTSTAMP:20260420T082920
CREATED:20251008T081220Z
LAST-MODIFIED:20251008T081220Z
UID:10001331-1764777600-1764795600@treasuretrove.games
SUMMARY:Battletech Midweek Mech Drop
DESCRIPTION:Bring your lance\, your maps\, and your best heat management strategies. The battlefield awaits — and the salvage rights are yours for the taking.
URL:https://treasuretrove.games/event/battletech-midweek-mech-drop/2025-12-03/
END:VEVENT
BEGIN:VEVENT
DTSTART;TZID=UTC:20251202T170000
DTEND;TZID=UTC:20251202T210000
DTSTAMP:20260420T082920
CREATED:20251008T075127Z
LAST-MODIFIED:20251008T075127Z
UID:10000807-1764694800-1764709200@treasuretrove.games
SUMMARY:One Piece TCG - Treasure Map Tuesdays
DESCRIPTION:Looking for a midweek adventure? Join us every Treasure Map Tuesday for an evening of One Piece TCG.
URL:https://treasuretrove.games/event/one-piece-tcg-treasure-map-tuesdays/2025-12-02/
END:VEVENT
BEGIN:VEVENT
DTSTART;TZID=UTC:20251202T160000
DTEND;TZID=UTC:20251202T210000
DTSTAMP:20260420T082920
CREATED:20251008T075646Z
LAST-MODIFIED:20251008T075646Z
UID:10001069-1764691200-1764709200@treasuretrove.games
SUMMARY:Horus Heresy Tactical Tuesdays: Echoes of Isstvan
DESCRIPTION:Come to Shiv’s arena every Tuesday to play Horus Heresy – Age of Darkness.
URL:https://treasuretrove.games/event/horus-heresy-tactical-tuesdays-echoes-of-isstvan/2025-12-02/
END:VEVENT
BEGIN:VEVENT
DTSTART;TZID=UTC:20251201T170000
DTEND;TZID=UTC:20251201T210000
DTSTAMP:20260420T082920
CREATED:20251008T074135Z
LAST-MODIFIED:20251008T074135Z
UID:10000545-1764608400-1764622800@treasuretrove.games
SUMMARY:Malifaux Mondays
DESCRIPTION:Get some work in with the gang every Monday in Shiv’s Arena!
URL:https://treasuretrove.games/event/malifaux-mondays/2025-12-01/
END:VEVENT
BEGIN:VEVENT
DTSTART;TZID=UTC:20251201T170000
DTEND;TZID=UTC:20251201T210000
DTSTAMP:20260420T082920
CREATED:20251008T073937Z
LAST-MODIFIED:20251008T073955Z
UID:10000283-1764608400-1764622800@treasuretrove.games
SUMMARY:Moonstone Weekly Play - Shiv's Arena
DESCRIPTION:Come play Moonstone and meet the local community on Mondays after 5pm
URL:https://treasuretrove.games/event/moonstone-weekly-play/2025-12-01/
END:VEVENT
BEGIN:VEVENT
DTSTART;TZID=UTC:20251201T170000
DTEND;TZID=UTC:20251201T210000
DTSTAMP:20260420T082920
CREATED:20251008T073513Z
LAST-MODIFIED:20251008T073513Z
UID:10000021-1764608400-1764622800@treasuretrove.games
SUMMARY:Just another Magic Monday
DESCRIPTION:recurring Magic the Gathering casual Commander play every Monday.
URL:https://treasuretrove.games/event/just-another-magic-monday/2025-12-01/
END:VEVENT
BEGIN:VEVENT
DTSTART;TZID=UTC:20251128T180000
DTEND;TZID=UTC:20251128T210000
DTSTAMP:20260420T082920
CREATED:20251008T084700Z
LAST-MODIFIED:20251008T084700Z
UID:10002113-1764352800-1764363600@treasuretrove.games
SUMMARY:Lorcana - Illumineers Gauntlet
DESCRIPTION:Join us every Friday for our Weekly Lorcana Events. We rotate each week between casual raffles and official tournament play. Check out the listing on Ravensburg Play Hub for details.
URL:https://treasuretrove.games/event/lorcana-illumineers-gauntlet/2025-11-28/
END:VEVENT
BEGIN:VEVENT
DTSTART;TZID=UTC:20251128T120000
DTEND;TZID=UTC:20251128T210000
DTSTAMP:20260420T082920
CREATED:20251008T085516Z
LAST-MODIFIED:20251008T090633Z
UID:10002896-1764331200-1764363600@treasuretrove.games
SUMMARY:Age of Sigmar - Realmgate Rumble
DESCRIPTION:Bring your Age of Sigmar Armies to dominate the Realmgates on Fridays in Shiv’s arena.
URL:https://treasuretrove.games/event/age-of-sigmar-realmgate-rumble/2025-11-28/
END:VEVENT
BEGIN:VEVENT
DTSTART;TZID=UTC:20251127T160000
DTEND;TZID=UTC:20251127T210000
DTSTAMP:20260420T082920
CREATED:20251008T090033Z
LAST-MODIFIED:20260104T114847Z
UID:10003161-1764259200-1764277200@treasuretrove.games
SUMMARY:Riftbound Thursday Throwdown
DESCRIPTION:Join us on Thursdays for Riftbound Play Every Thursday.
URL:https://treasuretrove.games/event/mtg-thursday-throwdown/2025-11-27/
END:VEVENT
BEGIN:VEVENT
DTSTART;TZID=UTC:20251127T120000
DTEND;TZID=UTC:20251127T210000
DTSTAMP:20260420T082920
CREATED:20251008T084153Z
LAST-MODIFIED:20251008T084153Z
UID:10001852-1764244800-1764277200@treasuretrove.games
SUMMARY:Warhammer 40k Weekly Play
DESCRIPTION:Come join the best Warhammer 40k Community in the Northwest! New players\, seasoned generals\, and hobbyists alike — all are welcome at Treasure Trove Games.
URL:https://treasuretrove.games/event/warhammer-40k-weekly-play/2025-11-27/
END:VEVENT
BEGIN:VEVENT
DTSTART;TZID=UTC:20251126T170000
DTEND;TZID=UTC:20251126T210000
DTSTAMP:20260420T082920
CREATED:20251008T082402Z
LAST-MODIFIED:20251008T082402Z
UID:10001591-1764176400-1764190800@treasuretrove.games
SUMMARY:Kill Team - Wednesday Wakening
DESCRIPTION:Bring your squad. Trust no signal. And remember: the tomb doesn’t sleep — it waits.
URL:https://treasuretrove.games/event/kill-team-wednesday-wakening/2025-11-26/
END:VEVENT
BEGIN:VEVENT
DTSTART;TZID=UTC:20251126T160000
DTEND;TZID=UTC:20251126T210000
DTSTAMP:20260420T082920
CREATED:20251008T081220Z
LAST-MODIFIED:20251008T081220Z
UID:10001330-1764172800-1764190800@treasuretrove.games
SUMMARY:Battletech Midweek Mech Drop
DESCRIPTION:Bring your lance\, your maps\, and your best heat management strategies. The battlefield awaits — and the salvage rights are yours for the taking.
URL:https://treasuretrove.games/event/battletech-midweek-mech-drop/2025-11-26/
END:VEVENT
BEGIN:VEVENT
DTSTART;TZID=UTC:20251125T170000
DTEND;TZID=UTC:20251125T210000
DTSTAMP:20260420T082920
CREATED:20251008T075127Z
LAST-MODIFIED:20251008T075127Z
UID:10000806-1764090000-1764104400@treasuretrove.games
SUMMARY:One Piece TCG - Treasure Map Tuesdays
DESCRIPTION:Looking for a midweek adventure? Join us every Treasure Map Tuesday for an evening of One Piece TCG.
URL:https://treasuretrove.games/event/one-piece-tcg-treasure-map-tuesdays/2025-11-25/
END:VEVENT
BEGIN:VEVENT
DTSTART;TZID=UTC:20251125T160000
DTEND;TZID=UTC:20251125T210000
DTSTAMP:20260420T082920
CREATED:20251008T075646Z
LAST-MODIFIED:20251008T075646Z
UID:10001068-1764086400-1764104400@treasuretrove.games
SUMMARY:Horus Heresy Tactical Tuesdays: Echoes of Isstvan
DESCRIPTION:Come to Shiv’s arena every Tuesday to play Horus Heresy – Age of Darkness.
URL:https://treasuretrove.games/event/horus-heresy-tactical-tuesdays-echoes-of-isstvan/2025-11-25/
END:VEVENT
BEGIN:VEVENT
DTSTART;TZID=UTC:20251124T170000
DTEND;TZID=UTC:20251124T210000
DTSTAMP:20260420T082920
CREATED:20251008T074135Z
LAST-MODIFIED:20251008T074135Z
UID:10000544-1764003600-1764018000@treasuretrove.games
SUMMARY:Malifaux Mondays
DESCRIPTION:Get some work in with the gang every Monday in Shiv’s Arena!
URL:https://treasuretrove.games/event/malifaux-mondays/2025-11-24/
END:VEVENT
BEGIN:VEVENT
DTSTART;TZID=UTC:20251124T170000
DTEND;TZID=UTC:20251124T210000
DTSTAMP:20260420T082920
CREATED:20251008T073937Z
LAST-MODIFIED:20251008T073955Z
UID:10000282-1764003600-1764018000@treasuretrove.games
SUMMARY:Moonstone Weekly Play - Shiv's Arena
DESCRIPTION:Come play Moonstone and meet the local community on Mondays after 5pm
URL:https://treasuretrove.games/event/moonstone-weekly-play/2025-11-24/
END:VEVENT
BEGIN:VEVENT
DTSTART;TZID=UTC:20251124T170000
DTEND;TZID=UTC:20251124T210000
DTSTAMP:20260420T082920
CREATED:20251008T073513Z
LAST-MODIFIED:20251008T073513Z
UID:10000020-1764003600-1764018000@treasuretrove.games
SUMMARY:Just another Magic Monday
DESCRIPTION:recurring Magic the Gathering casual Commander play every Monday.
URL:https://treasuretrove.games/event/just-another-magic-monday/2025-11-24/
END:VEVENT
BEGIN:VEVENT
DTSTART;TZID=UTC:20251121T180000
DTEND;TZID=UTC:20251121T210000
DTSTAMP:20260420T082920
CREATED:20251008T084700Z
LAST-MODIFIED:20251008T084700Z
UID:10002112-1763748000-1763758800@treasuretrove.games
SUMMARY:Lorcana - Illumineers Gauntlet
DESCRIPTION:Join us every Friday for our Weekly Lorcana Events. We rotate each week between casual raffles and official tournament play. Check out the listing on Ravensburg Play Hub for details.
URL:https://treasuretrove.games/event/lorcana-illumineers-gauntlet/2025-11-21/
END:VEVENT
BEGIN:VEVENT
DTSTART;TZID=UTC:20251121T120000
DTEND;TZID=UTC:20251121T210000
DTSTAMP:20260420T082920
CREATED:20251008T085516Z
LAST-MODIFIED:20251008T090633Z
UID:10002895-1763726400-1763758800@treasuretrove.games
SUMMARY:Age of Sigmar - Realmgate Rumble
DESCRIPTION:Bring your Age of Sigmar Armies to dominate the Realmgates on Fridays in Shiv’s arena.
URL:https://treasuretrove.games/event/age-of-sigmar-realmgate-rumble/2025-11-21/
END:VEVENT
BEGIN:VEVENT
DTSTART;TZID=UTC:20251120T160000
DTEND;TZID=UTC:20251120T210000
DTSTAMP:20260420T082920
CREATED:20251008T090033Z
LAST-MODIFIED:20260104T114847Z
UID:10003160-1763654400-1763672400@treasuretrove.games
SUMMARY:Riftbound Thursday Throwdown
DESCRIPTION:Join us on Thursdays for Riftbound Play Every Thursday.
URL:https://treasuretrove.games/event/mtg-thursday-throwdown/2025-11-20/
END:VEVENT
BEGIN:VEVENT
DTSTART;TZID=UTC:20251120T120000
DTEND;TZID=UTC:20251120T210000
DTSTAMP:20260420T082920
CREATED:20251008T084153Z
LAST-MODIFIED:20251008T084153Z
UID:10001851-1763640000-1763672400@treasuretrove.games
SUMMARY:Warhammer 40k Weekly Play
DESCRIPTION:Come join the best Warhammer 40k Community in the Northwest! New players\, seasoned generals\, and hobbyists alike — all are welcome at Treasure Trove Games.
URL:https://treasuretrove.games/event/warhammer-40k-weekly-play/2025-11-20/
END:VEVENT
BEGIN:VEVENT
DTSTART;TZID=UTC:20251119T170000
DTEND;TZID=UTC:20251119T210000
DTSTAMP:20260420T082920
CREATED:20251008T082402Z
LAST-MODIFIED:20251008T082402Z
UID:10001590-1763571600-1763586000@treasuretrove.games
SUMMARY:Kill Team - Wednesday Wakening
DESCRIPTION:Bring your squad. Trust no signal. And remember: the tomb doesn’t sleep — it waits.
URL:https://treasuretrove.games/event/kill-team-wednesday-wakening/2025-11-19/
END:VEVENT
BEGIN:VEVENT
DTSTART;TZID=UTC:20251119T160000
DTEND;TZID=UTC:20251119T210000
DTSTAMP:20260420T082920
CREATED:20251008T081220Z
LAST-MODIFIED:20251008T081220Z
UID:10001329-1763568000-1763586000@treasuretrove.games
SUMMARY:Battletech Midweek Mech Drop
DESCRIPTION:Bring your lance\, your maps\, and your best heat management strategies. The battlefield awaits — and the salvage rights are yours for the taking.
URL:https://treasuretrove.games/event/battletech-midweek-mech-drop/2025-11-19/
END:VEVENT
BEGIN:VEVENT
DTSTART;TZID=UTC:20251118T170000
DTEND;TZID=UTC:20251118T210000
DTSTAMP:20260420T082920
CREATED:20251008T075127Z
LAST-MODIFIED:20251008T075127Z
UID:10000805-1763485200-1763499600@treasuretrove.games
SUMMARY:One Piece TCG - Treasure Map Tuesdays
DESCRIPTION:Looking for a midweek adventure? Join us every Treasure Map Tuesday for an evening of One Piece TCG.
URL:https://treasuretrove.games/event/one-piece-tcg-treasure-map-tuesdays/2025-11-18/
END:VEVENT
BEGIN:VEVENT
DTSTART;TZID=UTC:20251118T160000
DTEND;TZID=UTC:20251118T210000
DTSTAMP:20260420T082920
CREATED:20251008T075646Z
LAST-MODIFIED:20251008T075646Z
UID:10001067-1763481600-1763499600@treasuretrove.games
SUMMARY:Horus Heresy Tactical Tuesdays: Echoes of Isstvan
DESCRIPTION:Come to Shiv’s arena every Tuesday to play Horus Heresy – Age of Darkness.
URL:https://treasuretrove.games/event/horus-heresy-tactical-tuesdays-echoes-of-isstvan/2025-11-18/
END:VEVENT
BEGIN:VEVENT
DTSTART;TZID=UTC:20251117T170000
DTEND;TZID=UTC:20251117T210000
DTSTAMP:20260420T082920
CREATED:20251008T074135Z
LAST-MODIFIED:20251008T074135Z
UID:10000543-1763398800-1763413200@treasuretrove.games
SUMMARY:Malifaux Mondays
DESCRIPTION:Get some work in with the gang every Monday in Shiv’s Arena!
URL:https://treasuretrove.games/event/malifaux-mondays/2025-11-17/
END:VEVENT
END:VCALENDAR