BEGIN:VCALENDAR
VERSION:2.0
PRODID:-//Treasure Trove Games - ECPv6.15.20//NONSGML v1.0//EN
CALSCALE:GREGORIAN
METHOD:PUBLISH
X-WR-CALNAME:Treasure Trove Games
X-ORIGINAL-URL:https://treasuretrove.games
X-WR-CALDESC:Events for Treasure Trove Games
REFRESH-INTERVAL;VALUE=DURATION:PT1H
X-Robots-Tag:noindex
X-PUBLISHED-TTL:PT1H
BEGIN:VTIMEZONE
TZID:UTC
BEGIN:STANDARD
TZOFFSETFROM:+0000
TZOFFSETTO:+0000
TZNAME:UTC
DTSTART:20240101T000000
END:STANDARD
END:VTIMEZONE
BEGIN:VEVENT
DTSTART;TZID=UTC:20251006T170000
DTEND;TZID=UTC:20251006T210000
DTSTAMP:20260420T184316
CREATED:20251008T074135Z
LAST-MODIFIED:20251008T074135Z
UID:10000537-1759770000-1759784400@treasuretrove.games
SUMMARY:Malifaux Mondays
DESCRIPTION:Get some work in with the gang every Monday in Shiv’s Arena!
URL:https://treasuretrove.games/event/malifaux-mondays/2025-10-06/
END:VEVENT
BEGIN:VEVENT
DTSTART;TZID=UTC:20251006T170000
DTEND;TZID=UTC:20251006T210000
DTSTAMP:20260420T184316
CREATED:20251008T073937Z
LAST-MODIFIED:20251008T073955Z
UID:10000275-1759770000-1759784400@treasuretrove.games
SUMMARY:Moonstone Weekly Play - Shiv's Arena
DESCRIPTION:Come play Moonstone and meet the local community on Mondays after 5pm
URL:https://treasuretrove.games/event/moonstone-weekly-play/2025-10-06/
END:VEVENT
BEGIN:VEVENT
DTSTART;TZID=UTC:20251006T170000
DTEND;TZID=UTC:20251006T210000
DTSTAMP:20260420T184316
CREATED:20251008T073513Z
LAST-MODIFIED:20251008T073513Z
UID:10000013-1759770000-1759784400@treasuretrove.games
SUMMARY:Just another Magic Monday
DESCRIPTION:recurring Magic the Gathering casual Commander play every Monday.
URL:https://treasuretrove.games/event/just-another-magic-monday/2025-10-06/
END:VEVENT
BEGIN:VEVENT
DTSTART;TZID=UTC:20250913T090000
DTEND;TZID=UTC:20250913T210000
DTSTAMP:20260420T184316
CREATED:20250716T001514Z
LAST-MODIFIED:20250907T020210Z
UID:10000001-1757754000-1757797200@treasuretrove.games
SUMMARY:Treasure Trove Warhammer 40K RTT Sept 13th
DESCRIPTION:Join us for the Treasure Clash: Summer Showdown\, a thrilling evening of tabletop tournaments\, trading card battles\, and party games for all skill levels. Whether you’re a seasoned strategist or a curious newcomer\, there’s a table waiting for you. Expect exclusive prizes\, limited-time deals in the store\, and community vibes that only Treasure Trove Games can deliver. \nSchedule: \n3:00 PM – Doors Open & Casual Play \n4:00 PM – Magic: The Gathering Booster Draft \n5:30 PM – Board Game Free-For-All (Catan\, Betrayal\, Azul & more) \n7:00 PM – Pokémon TCG Mini-Tournament \n8:30 PM – Raffle Drawing & Announcements \nEntry Fee:Free to attendTournament participation: $10 per event (includes prize support) \nExtras: \nSnacks & drinks available \nAll ages welcome \nExclusive event-only discounts in-store
URL:https://treasuretrove.games/event/40k-rtt-sept-13/
LOCATION:Treasure Trove Games\, 123 Game Haven Lane\, Montgomery\, TX\, 77356\, United States
CATEGORIES:Board Games
ATTACH;FMTTYPE=image/jpeg:https://treasuretrove.games/wp-content/uploads/2025/07/treasuretrove-004.jpg
ORGANIZER;CN="Justin":MAILTO:info@treasuretrove.games
END:VEVENT
END:VCALENDAR